BEGIN:VCALENDAR
VERSION:2.0
PRODID:-//The Inspired Evolution Project - ECPv6.15.13.1//NONSGML v1.0//EN
CALSCALE:GREGORIAN
METHOD:PUBLISH
X-WR-CALNAME:The Inspired Evolution Project
X-ORIGINAL-URL:https://inspiredevolutionproject.com
X-WR-CALDESC:Events for The Inspired Evolution Project
REFRESH-INTERVAL;VALUE=DURATION:PT1H
X-Robots-Tag:noindex
X-PUBLISHED-TTL:PT1H
BEGIN:VTIMEZONE
TZID:America/Denver
BEGIN:DAYLIGHT
TZOFFSETFROM:-0700
TZOFFSETTO:-0600
TZNAME:MDT
DTSTART:20220313T090000
END:DAYLIGHT
BEGIN:STANDARD
TZOFFSETFROM:-0600
TZOFFSETTO:-0700
TZNAME:MST
DTSTART:20221106T080000
END:STANDARD
BEGIN:DAYLIGHT
TZOFFSETFROM:-0700
TZOFFSETTO:-0600
TZNAME:MDT
DTSTART:20230312T090000
END:DAYLIGHT
BEGIN:STANDARD
TZOFFSETFROM:-0600
TZOFFSETTO:-0700
TZNAME:MST
DTSTART:20231105T080000
END:STANDARD
BEGIN:DAYLIGHT
TZOFFSETFROM:-0700
TZOFFSETTO:-0600
TZNAME:MDT
DTSTART:20240310T090000
END:DAYLIGHT
BEGIN:STANDARD
TZOFFSETFROM:-0600
TZOFFSETTO:-0700
TZNAME:MST
DTSTART:20241103T080000
END:STANDARD
END:VTIMEZONE
BEGIN:VEVENT
DTSTART;VALUE=DATE:20230501
DTEND;VALUE=DATE:20230502
DTSTAMP:20260425T070644
CREATED:20200421T214100Z
LAST-MODIFIED:20230501T041625Z
UID:5580-1682899200-1682985599@inspiredevolutionproject.com
SUMMARY:inspiration
DESCRIPTION:
URL:https://inspiredevolutionproject.com/event/inspiration-130/
CATEGORIES:LiTup 365
ATTACH;FMTTYPE=image/jpeg:https://inspiredevolutionproject.com/wp-content/uploads/2020/04/may-1.jpg
END:VEVENT
BEGIN:VEVENT
DTSTART;VALUE=DATE:20230502
DTEND;VALUE=DATE:20230503
DTSTAMP:20260425T070644
CREATED:20200421T220429Z
LAST-MODIFIED:20230501T041740Z
UID:5583-1682985600-1683071999@inspiredevolutionproject.com
SUMMARY:inspiration
DESCRIPTION:
URL:https://inspiredevolutionproject.com/event/inspiration-131/
CATEGORIES:LiTup 365
ATTACH;FMTTYPE=image/jpeg:https://inspiredevolutionproject.com/wp-content/uploads/2020/04/may-2-with-words-.jpg
END:VEVENT
BEGIN:VEVENT
DTSTART;VALUE=DATE:20230503
DTEND;VALUE=DATE:20230504
DTSTAMP:20260425T070644
CREATED:20200421T222019Z
LAST-MODIFIED:20230501T041407Z
UID:5586-1683072000-1683158399@inspiredevolutionproject.com
SUMMARY:inspiration
DESCRIPTION:
URL:https://inspiredevolutionproject.com/event/inspiration-132/
CATEGORIES:LiTup 365
ATTACH;FMTTYPE=image/jpeg:https://inspiredevolutionproject.com/wp-content/uploads/2020/04/may-3-with-words-.jpg
END:VEVENT
BEGIN:VEVENT
DTSTART;VALUE=DATE:20230504
DTEND;VALUE=DATE:20230505
DTSTAMP:20260425T070644
CREATED:20200421T223414Z
LAST-MODIFIED:20230505T111505Z
UID:5592-1683158400-1683244799@inspiredevolutionproject.com
SUMMARY:Inspiration
DESCRIPTION:
URL:https://inspiredevolutionproject.com/event/inspiration-134/
CATEGORIES:LiTup 365
ATTACH;FMTTYPE=image/jpeg:https://inspiredevolutionproject.com/wp-content/uploads/2020/04/may-4-with-words-.jpg
END:VEVENT
BEGIN:VEVENT
DTSTART;VALUE=DATE:20230505
DTEND;VALUE=DATE:20230506
DTSTAMP:20260425T070644
CREATED:20200505T192833Z
LAST-MODIFIED:20230505T111720Z
UID:5842-1683244800-1683331199@inspiredevolutionproject.com
SUMMARY:Inspiration
DESCRIPTION:
URL:https://inspiredevolutionproject.com/event/inspiration-135/
CATEGORIES:LiTup 365
ATTACH;FMTTYPE=image/jpeg:https://inspiredevolutionproject.com/wp-content/uploads/2020/05/may-5-with-words.jpg
END:VEVENT
BEGIN:VEVENT
DTSTART;VALUE=DATE:20230506
DTEND;VALUE=DATE:20230507
DTSTAMP:20260425T070644
CREATED:20200505T194324Z
LAST-MODIFIED:20230505T112122Z
UID:5845-1683331200-1683417599@inspiredevolutionproject.com
SUMMARY:Inspiration
DESCRIPTION:
URL:https://inspiredevolutionproject.com/event/inspiration-136/
CATEGORIES:LiTup 365
ATTACH;FMTTYPE=image/jpeg:https://inspiredevolutionproject.com/wp-content/uploads/2020/05/may-6-with-words-.jpg
END:VEVENT
BEGIN:VEVENT
DTSTART;VALUE=DATE:20230507
DTEND;VALUE=DATE:20230508
DTSTAMP:20260425T070644
CREATED:20200505T195418Z
LAST-MODIFIED:20230505T113053Z
UID:5850-1683417600-1683503999@inspiredevolutionproject.com
SUMMARY:Inspiration
DESCRIPTION:
URL:https://inspiredevolutionproject.com/event/inspiration-137/
CATEGORIES:LiTup 365
ATTACH;FMTTYPE=image/jpeg:https://inspiredevolutionproject.com/wp-content/uploads/2020/04/april-26-with-words-.jpg
END:VEVENT
BEGIN:VEVENT
DTSTART;VALUE=DATE:20230508
DTEND;VALUE=DATE:20230509
DTSTAMP:20260425T070644
CREATED:20200505T200333Z
LAST-MODIFIED:20230505T114308Z
UID:5854-1683504000-1683590399@inspiredevolutionproject.com
SUMMARY:Inspiration
DESCRIPTION:
URL:https://inspiredevolutionproject.com/event/inspiration-138/
CATEGORIES:LiTup 365
ATTACH;FMTTYPE=image/jpeg:https://inspiredevolutionproject.com/wp-content/uploads/2020/05/may-8-with-words.jpg
END:VEVENT
BEGIN:VEVENT
DTSTART;VALUE=DATE:20230509
DTEND;VALUE=DATE:20230510
DTSTAMP:20260425T070644
CREATED:20200505T203139Z
LAST-MODIFIED:20230505T114530Z
UID:5858-1683590400-1683676799@inspiredevolutionproject.com
SUMMARY:Inspiration
DESCRIPTION:
URL:https://inspiredevolutionproject.com/event/inspiration-139/
CATEGORIES:LiTup 365
ATTACH;FMTTYPE=image/jpeg:https://inspiredevolutionproject.com/wp-content/uploads/2020/05/may-9-with-words-.jpg
END:VEVENT
BEGIN:VEVENT
DTSTART;VALUE=DATE:20230510
DTEND;VALUE=DATE:20230511
DTSTAMP:20260425T070644
CREATED:20200505T204954Z
LAST-MODIFIED:20230505T114746Z
UID:5863-1683676800-1683763199@inspiredevolutionproject.com
SUMMARY:Inspiration
DESCRIPTION:
URL:https://inspiredevolutionproject.com/event/inspiration-140/
CATEGORIES:LiTup 365
ATTACH;FMTTYPE=image/png:https://inspiredevolutionproject.com/wp-content/uploads/2020/05/may-10-with-words-fr.png
END:VEVENT
BEGIN:VEVENT
DTSTART;VALUE=DATE:20230511
DTEND;VALUE=DATE:20230512
DTSTAMP:20260425T070644
CREATED:20200506T185936Z
LAST-MODIFIED:20230508T002128Z
UID:5868-1683763200-1683849599@inspiredevolutionproject.com
SUMMARY:Inspiration
DESCRIPTION:
URL:https://inspiredevolutionproject.com/event/inspiration-141/
CATEGORIES:LiTup 365
ATTACH;FMTTYPE=image/jpeg:https://inspiredevolutionproject.com/wp-content/uploads/2020/05/may-11-with-words-.jpg
END:VEVENT
BEGIN:VEVENT
DTSTART;VALUE=DATE:20230512
DTEND;VALUE=DATE:20230513
DTSTAMP:20260425T070644
CREATED:20200506T191712Z
LAST-MODIFIED:20230508T002240Z
UID:5871-1683849600-1683935999@inspiredevolutionproject.com
SUMMARY:Inspiration
DESCRIPTION:
URL:https://inspiredevolutionproject.com/event/inspiration-142/
CATEGORIES:LiTup 365
ATTACH;FMTTYPE=image/jpeg:https://inspiredevolutionproject.com/wp-content/uploads/2020/05/may-12-withw-ords-.jpg
END:VEVENT
BEGIN:VEVENT
DTSTART;VALUE=DATE:20230513
DTEND;VALUE=DATE:20230514
DTSTAMP:20260425T070644
CREATED:20200506T194131Z
LAST-MODIFIED:20230508T002341Z
UID:5874-1683936000-1684022399@inspiredevolutionproject.com
SUMMARY:Inspiration
DESCRIPTION:
URL:https://inspiredevolutionproject.com/event/inspiration-143/
CATEGORIES:LiTup 365
ATTACH;FMTTYPE=image/png:https://inspiredevolutionproject.com/wp-content/uploads/2020/05/may-13-with-words-.png
END:VEVENT
END:VCALENDAR