BEGIN:VCALENDAR
VERSION:2.0
PRODID:-//The Inspired Evolution Project - ECPv6.15.13.1//NONSGML v1.0//EN
CALSCALE:GREGORIAN
METHOD:PUBLISH
X-ORIGINAL-URL:https://inspiredevolutionproject.com
X-WR-CALDESC:Events for The Inspired Evolution Project
REFRESH-INTERVAL;VALUE=DURATION:PT1H
X-Robots-Tag:noindex
X-PUBLISHED-TTL:PT1H
BEGIN:VTIMEZONE
TZID:America/Denver
BEGIN:DAYLIGHT
TZOFFSETFROM:-0700
TZOFFSETTO:-0600
TZNAME:MDT
DTSTART:20220313T090000
END:DAYLIGHT
BEGIN:STANDARD
TZOFFSETFROM:-0600
TZOFFSETTO:-0700
TZNAME:MST
DTSTART:20221106T080000
END:STANDARD
BEGIN:DAYLIGHT
TZOFFSETFROM:-0700
TZOFFSETTO:-0600
TZNAME:MDT
DTSTART:20230312T090000
END:DAYLIGHT
BEGIN:STANDARD
TZOFFSETFROM:-0600
TZOFFSETTO:-0700
TZNAME:MST
DTSTART:20231105T080000
END:STANDARD
BEGIN:DAYLIGHT
TZOFFSETFROM:-0700
TZOFFSETTO:-0600
TZNAME:MDT
DTSTART:20240310T090000
END:DAYLIGHT
BEGIN:STANDARD
TZOFFSETFROM:-0600
TZOFFSETTO:-0700
TZNAME:MST
DTSTART:20241103T080000
END:STANDARD
BEGIN:DAYLIGHT
TZOFFSETFROM:-0700
TZOFFSETTO:-0600
TZNAME:MDT
DTSTART:20250309T090000
END:DAYLIGHT
BEGIN:STANDARD
TZOFFSETFROM:-0600
TZOFFSETTO:-0700
TZNAME:MST
DTSTART:20251102T080000
END:STANDARD
BEGIN:DAYLIGHT
TZOFFSETFROM:-0700
TZOFFSETTO:-0600
TZNAME:MDT
DTSTART:20260308T090000
END:DAYLIGHT
BEGIN:STANDARD
TZOFFSETFROM:-0600
TZOFFSETTO:-0700
TZNAME:MST
DTSTART:20261101T080000
END:STANDARD
BEGIN:DAYLIGHT
TZOFFSETFROM:-0700
TZOFFSETTO:-0600
TZNAME:MDT
DTSTART:20270314T090000
END:DAYLIGHT
BEGIN:STANDARD
TZOFFSETFROM:-0600
TZOFFSETTO:-0700
TZNAME:MST
DTSTART:20271107T080000
END:STANDARD
BEGIN:DAYLIGHT
TZOFFSETFROM:-0700
TZOFFSETTO:-0600
TZNAME:MDT
DTSTART:20280312T090000
END:DAYLIGHT
BEGIN:STANDARD
TZOFFSETFROM:-0600
TZOFFSETTO:-0700
TZNAME:MST
DTSTART:20281105T080000
END:STANDARD
BEGIN:DAYLIGHT
TZOFFSETFROM:-0700
TZOFFSETTO:-0600
TZNAME:MDT
DTSTART:20290311T090000
END:DAYLIGHT
BEGIN:STANDARD
TZOFFSETFROM:-0600
TZOFFSETTO:-0700
TZNAME:MST
DTSTART:20291104T080000
END:STANDARD
BEGIN:DAYLIGHT
TZOFFSETFROM:-0700
TZOFFSETTO:-0600
TZNAME:MDT
DTSTART:20300310T090000
END:DAYLIGHT
BEGIN:STANDARD
TZOFFSETFROM:-0600
TZOFFSETTO:-0700
TZNAME:MST
DTSTART:20301103T080000
END:STANDARD
END:VTIMEZONE
BEGIN:VEVENT
DTSTART;TZID=America/Denver:20230917T190000
DTEND;TZID=America/Denver:20230919T190000
DTSTAMP:20260421T154252
CREATED:20230107T185307Z
LAST-MODIFIED:20230107T185721Z
UID:14618-1694977200-1695150000@inspiredevolutionproject.com
SUMMARY:Know Thyself Meditation Retreat
DESCRIPTION:“Know thyself. And to thine own self be true.” These powerful words written over the temple of Delphi can be far more challenging than they appear. Do you know the you of yesterday\, or are you coming to know your full potential? \nIf there is anything in your life you wish you could change\, changing the way you identify with it is vital. To have a new life\, you must know the person living it. Your brain must understand the new identity and all its nuances. \nDiscover and live your next full potential now. \nI recommend completing our free Relief of Suffering Course as a pre-requisite to this retreat.
URL:https://inspiredevolutionproject.com/event/know-thyself-meditation-retreat/
ORGANIZER;CN="Linda Forrest":MAILTO:linda@theselfcaresanctuary.com
END:VEVENT
BEGIN:VEVENT
DTSTART;VALUE=DATE:20231011
DTEND;VALUE=DATE:20231012
DTSTAMP:20260421T154252
CREATED:20201007T003947Z
LAST-MODIFIED:20221109T161305Z
UID:9724-1696982400-1697068799@inspiredevolutionproject.com
SUMMARY:Inspiration
DESCRIPTION:
URL:https://inspiredevolutionproject.com/event/inspiration-292/
CATEGORIES:LiTup 365
ATTACH;FMTTYPE=image/jpeg:https://inspiredevolutionproject.com/wp-content/uploads/2020/10/10-11.jpg
END:VEVENT
BEGIN:VEVENT
DTSTART;VALUE=DATE:20231014
DTEND;VALUE=DATE:20231015
DTSTAMP:20260421T154252
CREATED:20201008T005649Z
LAST-MODIFIED:20221029T150137Z
UID:9767-1697241600-1697327999@inspiredevolutionproject.com
SUMMARY:Inspiration
DESCRIPTION:
URL:https://inspiredevolutionproject.com/event/inspiration-295/
CATEGORIES:LiTup 365
ATTACH;FMTTYPE=image/jpeg:https://inspiredevolutionproject.com/wp-content/uploads/2020/10/10-14.jpg
END:VEVENT
BEGIN:VEVENT
DTSTART;VALUE=DATE:20231015
DTEND;VALUE=DATE:20231016
DTSTAMP:20260421T154252
CREATED:20201008T010115Z
LAST-MODIFIED:20221029T145839Z
UID:9770-1697328000-1697414399@inspiredevolutionproject.com
SUMMARY:Inspiration
DESCRIPTION:
URL:https://inspiredevolutionproject.com/event/inspiration-296/
CATEGORIES:LiTup 365
ATTACH;FMTTYPE=image/jpeg:https://inspiredevolutionproject.com/wp-content/uploads/2020/10/10-15.jpg
END:VEVENT
BEGIN:VEVENT
DTSTART;VALUE=DATE:20231019
DTEND;VALUE=DATE:20231020
DTSTAMP:20260421T154252
CREATED:20201008T010957Z
LAST-MODIFIED:20221025T135855Z
UID:9782-1697673600-1697759999@inspiredevolutionproject.com
SUMMARY:Inspiration
DESCRIPTION:
URL:https://inspiredevolutionproject.com/event/inspiration-300/
CATEGORIES:LiTup 365
ATTACH;FMTTYPE=image/jpeg:https://inspiredevolutionproject.com/wp-content/uploads/2020/10/10-19.jpg
END:VEVENT
BEGIN:VEVENT
DTSTART;VALUE=DATE:20231021
DTEND;VALUE=DATE:20231022
DTSTAMP:20260421T154252
CREATED:20201020T005300Z
LAST-MODIFIED:20221023T125734Z
UID:9971-1697846400-1697932799@inspiredevolutionproject.com
SUMMARY:Inspiration
DESCRIPTION:
URL:https://inspiredevolutionproject.com/event/inspiration-303/
CATEGORIES:LiTup 365
ATTACH;FMTTYPE=image/jpeg:https://inspiredevolutionproject.com/wp-content/uploads/2020/10/10-21.jpg
END:VEVENT
BEGIN:VEVENT
DTSTART;VALUE=DATE:20240108
DTEND;VALUE=DATE:20240109
DTSTAMP:20260421T154252
CREATED:20200107T174234Z
LAST-MODIFIED:20230116T181458Z
UID:966-1704672000-1704758399@inspiredevolutionproject.com
SUMMARY:Inspiration
DESCRIPTION:
URL:https://inspiredevolutionproject.com/event/inspiration-18/
CATEGORIES:LiTup 365
ATTACH;FMTTYPE=image/jpeg:https://inspiredevolutionproject.com/wp-content/uploads/2020/01/1-8.jpg
END:VEVENT
BEGIN:VEVENT
DTSTART;VALUE=DATE:20240109
DTEND;VALUE=DATE:20240110
DTSTAMP:20260421T154252
CREATED:20200107T174339Z
LAST-MODIFIED:20230116T181914Z
UID:969-1704758400-1704844799@inspiredevolutionproject.com
SUMMARY:Inspiration
DESCRIPTION:
URL:https://inspiredevolutionproject.com/event/inspiration-0109/
CATEGORIES:LiTup 365
ATTACH;FMTTYPE=image/jpeg:https://inspiredevolutionproject.com/wp-content/uploads/2020/01/1-9.jpg
END:VEVENT
BEGIN:VEVENT
DTSTART;VALUE=DATE:20240110
DTEND;VALUE=DATE:20240111
DTSTAMP:20260421T154252
CREATED:20200107T174441Z
LAST-MODIFIED:20230116T182252Z
UID:972-1704844800-1704931199@inspiredevolutionproject.com
SUMMARY:Inspiration
DESCRIPTION:
URL:https://inspiredevolutionproject.com/event/inspiration-0110/
CATEGORIES:LiTup 365
ATTACH;FMTTYPE=image/jpeg:https://inspiredevolutionproject.com/wp-content/uploads/2020/01/1-10.jpg
END:VEVENT
BEGIN:VEVENT
DTSTART;VALUE=DATE:20240111
DTEND;VALUE=DATE:20240112
DTSTAMP:20260421T154252
CREATED:20200107T174552Z
LAST-MODIFIED:20230116T182750Z
UID:975-1704931200-1705017599@inspiredevolutionproject.com
SUMMARY:Inspiration
DESCRIPTION:
URL:https://inspiredevolutionproject.com/event/inspiration-0111/
CATEGORIES:LiTup 365
ATTACH;FMTTYPE=image/jpeg:https://inspiredevolutionproject.com/wp-content/uploads/2020/01/1-11.jpg
END:VEVENT
BEGIN:VEVENT
DTSTART;VALUE=DATE:20240112
DTEND;VALUE=DATE:20240113
DTSTAMP:20260421T154252
CREATED:20200107T174914Z
LAST-MODIFIED:20230116T183158Z
UID:978-1705017600-1705103999@inspiredevolutionproject.com
SUMMARY:Inspiration
DESCRIPTION:
URL:https://inspiredevolutionproject.com/event/inspiration-1012/
CATEGORIES:LiTup 365
ATTACH;FMTTYPE=image/jpeg:https://inspiredevolutionproject.com/wp-content/uploads/2020/01/1-12.jpg
END:VEVENT
BEGIN:VEVENT
DTSTART;VALUE=DATE:20240113
DTEND;VALUE=DATE:20240114
DTSTAMP:20260421T154252
CREATED:20200107T175153Z
LAST-MODIFIED:20230116T183645Z
UID:981-1705104000-1705190399@inspiredevolutionproject.com
SUMMARY:Inspiration
DESCRIPTION:
URL:https://inspiredevolutionproject.com/event/inspiration-0113/
CATEGORIES:LiTup 365
ATTACH;FMTTYPE=image/jpeg:https://inspiredevolutionproject.com/wp-content/uploads/2020/01/01-13.jpg
END:VEVENT
BEGIN:VEVENT
DTSTART;VALUE=DATE:20240114
DTEND;VALUE=DATE:20240115
DTSTAMP:20260421T154252
CREATED:20200107T175251Z
LAST-MODIFIED:20230116T194351Z
UID:984-1705190400-1705276799@inspiredevolutionproject.com
SUMMARY:Inspiration
DESCRIPTION:
URL:https://inspiredevolutionproject.com/event/inspiration-0114/
CATEGORIES:LiTup 365
ATTACH;FMTTYPE=image/jpeg:https://inspiredevolutionproject.com/wp-content/uploads/2020/01/01-14c.jpg
END:VEVENT
BEGIN:VEVENT
DTSTART;VALUE=DATE:20240115
DTEND;VALUE=DATE:20240116
DTSTAMP:20260421T154252
CREATED:20200107T175357Z
LAST-MODIFIED:20230116T194710Z
UID:987-1705276800-1705363199@inspiredevolutionproject.com
SUMMARY:Inspiration
DESCRIPTION:
URL:https://inspiredevolutionproject.com/event/inspiration-0115/
CATEGORIES:LiTup 365
ATTACH;FMTTYPE=image/png:https://inspiredevolutionproject.com/wp-content/uploads/2020/01/Downloads01-15b.png
END:VEVENT
BEGIN:VEVENT
DTSTART;TZID=America/Denver:20240211T190000
DTEND;TZID=America/Denver:20240213T150000
DTSTAMP:20260421T154252
CREATED:20230107T190000Z
LAST-MODIFIED:20230107T190000Z
UID:14621-1707678000-1707836400@inspiredevolutionproject.com
SUMMARY:Meet 1000 Retreat
DESCRIPTION:More details to come. \nI recommend our Relationship Balancing Course as a pre-requisite to this retreat.
URL:https://inspiredevolutionproject.com/event/meet-1000-retreat/
END:VEVENT
BEGIN:VEVENT
DTSTART;VALUE=DATE:20240229
DTEND;VALUE=DATE:20240301
DTSTAMP:20260421T154252
CREATED:20200301T044115Z
LAST-MODIFIED:20220206T224922Z
UID:2621-1709164800-1709251199@inspiredevolutionproject.com
SUMMARY:Inspiration
DESCRIPTION:
URL:https://inspiredevolutionproject.com/event/inspiration-71/
CATEGORIES:LiTup 365
ATTACH;FMTTYPE=image/jpeg:https://inspiredevolutionproject.com/wp-content/uploads/2020/02/feb-29.jpg
END:VEVENT
BEGIN:VEVENT
DTSTART;VALUE=DATE:20290404
DTEND;VALUE=DATE:20290405
DTSTAMP:20260421T154252
CREATED:20200403T161227Z
LAST-MODIFIED:20230325T163520Z
UID:4741-1869955200-1870041599@inspiredevolutionproject.com
SUMMARY:duplicate inspiration
DESCRIPTION:
URL:https://inspiredevolutionproject.com/event/inspiration-106/
CATEGORIES:LiTup 365
ATTACH;FMTTYPE=image/jpeg:https://inspiredevolutionproject.com/wp-content/uploads/2020/04/april-4-with-words-.jpg
END:VEVENT
END:VCALENDAR